
BEGIN:VCALENDAR
VERSION:2.0
PRODID:-// - ECPv5.3.0//NONSGML v1.0//EN
CALSCALE:GREGORIAN
METHOD:PUBLISH
X-ORIGINAL-URL:https://www.reseaujack.fr
X-WR-CALDESC:évènements pour 
BEGIN:VTIMEZONE
TZID:Europe/Paris
BEGIN:DAYLIGHT
TZOFFSETFROM:+0100
TZOFFSETTO:+0200
TZNAME:CEST
DTSTART:20220327T010000
END:DAYLIGHT
BEGIN:STANDARD
TZOFFSETFROM:+0200
TZOFFSETTO:+0100
TZNAME:CET
DTSTART:20221030T010000
END:STANDARD
END:VTIMEZONE
BEGIN:VEVENT
DTSTART;TZID=Europe/Paris:20220722T080000
DTEND;TZID=Europe/Paris:20220812T233000
DTSTAMP:20260426T054216
CREATED:20220810T092438Z
LAST-MODIFIED:20220810T092438Z
UID:3421-1658476800-1660347000@www.reseaujack.fr
SUMMARY:VIVA’CITÉ - LES ESTIVALES
DESCRIPTION:Du 22 juillet au 12 août : les Estivales de Brumath sont de retour !\n\n22 juillet: Ernest\n29 juillet: Robin Leon + Les Rosystars\n5 août: Funkindustry\n12 août: Matskat\n\nDes food-trucks seront également sur place pour vous restaurer.
URL:https://www.reseaujack.fr/evenement/vivacite-les-estivales/
LOCATION:BRUMATH\, Brumath\, Alsace\, 67067\, France
CATEGORIES:Agenda concerts du Bas-Rhin Nord
ATTACH;FMTTYPE=image/jpeg:https://www.reseaujack.fr/wp-content/uploads/2022/08/284183910_5064104623639242_6746103981911508272_n.jpg
END:VEVENT
END:VCALENDAR